BEGIN:VCALENDAR
VERSION:2.0
PRODID:-//laura moser - ECPv6.15.20//NONSGML v1.0//EN
CALSCALE:GREGORIAN
METHOD:PUBLISH
X-WR-CALNAME:laura moser
X-ORIGINAL-URL:https://lauramoser.ch
X-WR-CALDESC:Veranstaltungen für laura moser
REFRESH-INTERVAL;VALUE=DURATION:PT1H
X-Robots-Tag:noindex
X-PUBLISHED-TTL:PT1H
BEGIN:VTIMEZONE
TZID:UTC
BEGIN:STANDARD
TZOFFSETFROM:+0000
TZOFFSETTO:+0000
TZNAME:UTC
DTSTART:20250101T000000
END:STANDARD
END:VTIMEZONE
BEGIN:VEVENT
DTSTART;VALUE=DATE:20260605
DTEND;VALUE=DATE:20260606
DTSTAMP:20260423T131624
CREATED:20260416T155445Z
LAST-MODIFIED:20260416T155508Z
UID:1567-1780617600-1780703999@lauramoser.ch
SUMMARY:jodelspaziergang: nahreisen zürich
DESCRIPTION:ein jodelspaziergang durch den wald! \nhttps://www.nahreisen.ch/
URL:https://lauramoser.ch/agenda/jodelspaziergang-nahreisen-zuerich/
LOCATION:Zürich
CATEGORIES:jodeln,kurs,natur,workshop
END:VEVENT
BEGIN:VEVENT
DTSTART;VALUE=DATE:20260612
DTEND;VALUE=DATE:20260615
DTSTAMP:20260423T131624
CREATED:20260324T141637Z
LAST-MODIFIED:20260324T141637Z
UID:1562-1781222400-1781481599@lauramoser.ch
SUMMARY:performance: bergfahrtfestival bergün
DESCRIPTION:In diversen Projekten und Formationen am Bergfahrtfestival! \nMehr Infos hier: https://www.bergfahrtfestival.ch/
URL:https://lauramoser.ch/agenda/performance-bergfahrtfestival-berguen/
LOCATION:Zürich
END:VEVENT
BEGIN:VEVENT
DTSTART;VALUE=DATE:20260625
DTEND;VALUE=DATE:20260626
DTSTAMP:20260423T131624
CREATED:20260416T155607Z
LAST-MODIFIED:20260416T155607Z
UID:1569-1782345600-1782431999@lauramoser.ch
SUMMARY:jodelspaziergang: nahreisen zürich
DESCRIPTION:ein jodelspaziergang durch den wald! \nhttps://www.nahreisen.ch/
URL:https://lauramoser.ch/agenda/jodelspaziergang-nahreisen-zuerich-2/
LOCATION:Zürich
CATEGORIES:jodeln,konzert,kurs,natur,workshop
END:VEVENT
END:VCALENDAR