BEGIN:VCALENDAR
VERSION:2.0
PRODID:-//laura moser - ECPv6.15.20//NONSGML v1.0//EN
CALSCALE:GREGORIAN
METHOD:PUBLISH
X-WR-CALNAME:laura moser
X-ORIGINAL-URL:https://lauramoser.ch
X-WR-CALDESC:Veranstaltungen für laura moser
REFRESH-INTERVAL;VALUE=DURATION:PT1H
X-Robots-Tag:noindex
X-PUBLISHED-TTL:PT1H
BEGIN:VTIMEZONE
TZID:UTC
BEGIN:STANDARD
TZOFFSETFROM:+0000
TZOFFSETTO:+0000
TZNAME:UTC
DTSTART:20240101T000000
END:STANDARD
END:VTIMEZONE
BEGIN:VEVENT
DTSTART;VALUE=DATE:20250714
DTEND;VALUE=DATE:20260504
DTSTAMP:20260423T114605
CREATED:20251015T145015Z
LAST-MODIFIED:20251015T145116Z
UID:1447-1752451200-1777852799@lauramoser.ch
SUMMARY:ausstellung: volksmusik @ forum der schweizer geschichte\, schwyz
DESCRIPTION:als jodelnder und interviewten teil bin ich an der volksmusik-ausstellung im forum der schweizer geschichte\, schwyz bis am 3. mai 2026 zu sehen und zu hören: https://www.forumschwyz.ch/de
URL:https://lauramoser.ch/agenda/ausstellung-volksmusik-forum-der-schweizer-geschichte-schwyz/
LOCATION:Zürich
CATEGORIES:ausstellung,jodeln
END:VEVENT
BEGIN:VEVENT
DTSTART;VALUE=DATE:20260302
DTEND;VALUE=DATE:20260324
DTSTAMP:20260423T114605
CREATED:20251205T150714Z
LAST-MODIFIED:20260324T141451Z
UID:1498-1772409600-1774310399@lauramoser.ch
SUMMARY:kurs: jodeln! improvisiert
DESCRIPTION:Anmeldung und Infos findet ihr hier: https://www.galotti.ch/kurse/detail/jodeln-improvisiert/26F-1-009-002/
URL:https://lauramoser.ch/agenda/kurs-jodeln-improvisiert-4/
LOCATION:Galotti\, Hohlstrasse 290\, Zürich\, Zürich\, 8004\, Schweiz
CATEGORIES:jodeln,kurs,workshop
END:VEVENT
BEGIN:VEVENT
DTSTART;TZID=UTC:20260314T080000
DTEND;TZID=UTC:20260314T170000
DTSTAMP:20260423T114605
CREATED:20260307T125753Z
LAST-MODIFIED:20260307T131148Z
UID:1547-1773475200-1773507600@lauramoser.ch
SUMMARY:workshop: rhythmik jodelt @ 100 jahre rhythmik
DESCRIPTION:Tagung / Konferenz / Symposium \n14.03.2026\, 09:45 – 16:00 \nToni-Areal\, Foyer Konzertsaal 3\, Ebene 7\, Pfingstweidstrasse 96\, Zürich \n\n\n\n\n\n\n\n\n\n\n Rhythmik – seit 100 Jahren in Bewegung \nAnmeldung bis 1. März\neventfrog.ch/Rhythmik \n\n\n\n\n\n\n  \nMehr Info: https://www.zhdk.ch/veranstaltung/60853
URL:https://lauramoser.ch/agenda/workshop-rhythmik-jodelt-100-jahre-rhythmik/
LOCATION:Zürich
CATEGORIES:jodeln,kurs,workshop
END:VEVENT
BEGIN:VEVENT
DTSTART;TZID=UTC:20260322T110000
DTEND;TZID=UTC:20260322T160000
DTSTAMP:20260423T114605
CREATED:20251205T151058Z
LAST-MODIFIED:20251205T151058Z
UID:1504-1774177200-1774195200@lauramoser.ch
SUMMARY:kurs: natur- und improjodeln tageskurs
DESCRIPTION:Anmeldung und Infos findet ihr hier: https://www.galotti.ch/kurse/detail/natur-und-improjodeln-tageskurs/26F-1-009-003/
URL:https://lauramoser.ch/agenda/kurs-natur-und-improjodeln-tageskurs/
LOCATION:Galotti\, Hohlstrasse 290\, Zürich\, Zürich\, 8004\, Schweiz
CATEGORIES:jodeln,kurs,workshop
END:VEVENT
BEGIN:VEVENT
DTSTART;TZID=UTC:20260328T181500
DTEND;TZID=UTC:20260328T193000
DTSTAMP:20260423T114605
CREATED:20251205T151327Z
LAST-MODIFIED:20251205T151327Z
UID:1506-1774721700-1774726200@lauramoser.ch
SUMMARY:konzert: tätsch trio @ ref. kirche zollikon
DESCRIPTION:28.03.2026 – musikalische Umrahmung \n18:15 Ref. Kirche Zollikon \nLicht und Klang Abendfeier
URL:https://lauramoser.ch/agenda/konzert-taetsch-trio-ref-kirche-zollikon/
LOCATION:Zürich
CATEGORIES:konzert
ATTACH;FMTTYPE=image/jpeg:https://lauramoser.ch/wp-content/uploads/2-Martin-Schweingruber_Stubete-am-See-Sils-2025_Taetsch-Trio_Spaziergang_Trio-1-von-1-scaled.jpeg
END:VEVENT
END:VCALENDAR