BEGIN:VCALENDAR
VERSION:2.0
PRODID:-//laura moser - ECPv6.15.20//NONSGML v1.0//EN
CALSCALE:GREGORIAN
METHOD:PUBLISH
X-WR-CALNAME:laura moser
X-ORIGINAL-URL:https://lauramoser.ch
X-WR-CALDESC:Veranstaltungen für laura moser
REFRESH-INTERVAL;VALUE=DURATION:PT1H
X-Robots-Tag:noindex
X-PUBLISHED-TTL:PT1H
BEGIN:VTIMEZONE
TZID:UTC
BEGIN:STANDARD
TZOFFSETFROM:+0000
TZOFFSETTO:+0000
TZNAME:UTC
DTSTART:20240101T000000
END:STANDARD
END:VTIMEZONE
BEGIN:VEVENT
DTSTART;VALUE=DATE:20250714
DTEND;VALUE=DATE:20260504
DTSTAMP:20260423T174908
CREATED:20251015T145015Z
LAST-MODIFIED:20251015T145116Z
UID:1447-1752451200-1777852799@lauramoser.ch
SUMMARY:ausstellung: volksmusik @ forum der schweizer geschichte\, schwyz
DESCRIPTION:als jodelnder und interviewten teil bin ich an der volksmusik-ausstellung im forum der schweizer geschichte\, schwyz bis am 3. mai 2026 zu sehen und zu hören: https://www.forumschwyz.ch/de
URL:https://lauramoser.ch/agenda/ausstellung-volksmusik-forum-der-schweizer-geschichte-schwyz/
LOCATION:Zürich
CATEGORIES:ausstellung,jodeln
END:VEVENT
BEGIN:VEVENT
DTSTART;VALUE=DATE:20251027
DTEND;VALUE=DATE:20251118
DTSTAMP:20260423T174908
CREATED:20250909T075932Z
LAST-MODIFIED:20251007T123448Z
UID:1433-1761523200-1763423999@lauramoser.ch
SUMMARY:kurs: jodeln! improvisiert @ galotti
DESCRIPTION:Anmeldung und Infos: https://www.galotti.ch/kurse/detail/jodeln-improvisiert/25H-1-009-001/
URL:https://lauramoser.ch/agenda/kurs-jodeln-improvisiert-galotti/
LOCATION:Galotti\, Hohlstrasse 290\, Zürich\, Zürich\, 8004\, Schweiz
CATEGORIES:jodeln,kurs,workshop
END:VEVENT
BEGIN:VEVENT
DTSTART;TZID=UTC:20251101T210000
DTEND;TZID=UTC:20251101T213000
DTSTAMP:20260423T174908
CREATED:20250908T160931Z
LAST-MODIFIED:20251024T111104Z
UID:1411-1762030800-1762032600@lauramoser.ch
SUMMARY:konzert: jodeln am dia de los muertos\, zürich
DESCRIPTION:1.11.25 \n21.00\, Kirche St. Jakob am Stauffacher\, Zürich \nMehr Infos: https://citykirche.ch/wp-content/uploads/2025/10/STJ_DdM_A65_2509130_Online.pdf
URL:https://lauramoser.ch/agenda/konzert-jodeln-am-dia-de-los-muertos-zuerich/
LOCATION:Kirche St. Jakob\, Stauffacherstrasse 34\, Zürich\, 8004
CATEGORIES:jodeln,konzert
ATTACH;FMTTYPE=image/jpeg:https://lauramoser.ch/wp-content/uploads/2022/11/DSCF4349.jpg
END:VEVENT
BEGIN:VEVENT
DTSTART;VALUE=DATE:20251124
DTEND;VALUE=DATE:20251216
DTSTAMP:20260423T174908
CREATED:20250909T080314Z
LAST-MODIFIED:20251007T123355Z
UID:1438-1763942400-1765843199@lauramoser.ch
SUMMARY:kurs: jodeln am nachmittag (mixed levels) @ galotti
DESCRIPTION:Infos und Anmeldung: https://www.galotti.ch/kurse/detail/jodeln-am-nachmittag-mixed-levels/25H-1-009-002/
URL:https://lauramoser.ch/agenda/kurs-jodeln-am-nachmittag-mixed-levels-galotti/
LOCATION:Galotti\, Hohlstrasse 290\, Zürich\, Zürich\, 8004\, Schweiz
CATEGORIES:jodeln,kurs,workshop
END:VEVENT
END:VCALENDAR