BEGIN:VCALENDAR
VERSION:2.0
PRODID:-//laura moser - ECPv6.15.20//NONSGML v1.0//EN
CALSCALE:GREGORIAN
METHOD:PUBLISH
X-WR-CALNAME:laura moser
X-ORIGINAL-URL:https://lauramoser.ch
X-WR-CALDESC:Veranstaltungen für laura moser
REFRESH-INTERVAL;VALUE=DURATION:PT1H
X-Robots-Tag:noindex
X-PUBLISHED-TTL:PT1H
BEGIN:VTIMEZONE
TZID:UTC
BEGIN:STANDARD
TZOFFSETFROM:+0000
TZOFFSETTO:+0000
TZNAME:UTC
DTSTART:20240101T000000
END:STANDARD
END:VTIMEZONE
BEGIN:VEVENT
DTSTART;VALUE=DATE:20260418
DTEND;VALUE=DATE:20260419
DTSTAMP:20260423T105223
CREATED:20260307T130300Z
LAST-MODIFIED:20260319T140841Z
UID:1552-1776470400-1776556799@lauramoser.ch
SUMMARY:performance: resonances of the transient mit laurin schaub
DESCRIPTION:Mit «Resonances of the Transient » präsentiert Limen Works seine erste Ausstellung; ein künstlerisches Experiment\, das vom 10. bis 24. April 2026 im Alten Krematorium auf dem Friedhof Sihlfeld in Zürich stattfindet. \nPerformance am 18. April mit Laurin Schaub\, Keramiker\n16.15-16.45 Uhr \nWährend einer halben Stunde fliessen die Klänge der Installation «Sustain» von Laurin Schaub mit dem Gesang von Laura Moser zusammen. Mäandernd ziehen sie durch eine Klanglandschaft\, von alpinen Felsformationen zu urbanen Perspektiven. Laura folgt der Harmonie der Keramikschalen mit dem tragenden Klang ihres Jodels\, während Laurin die Gefässe via Computer in Schwingung versetzt. So entsteht ein Dialog\, zwischen Mensch und Objekt\, zwischen archaischem Naturklang und digitaler Präzision. \n  \nEintritt frei (Kollekte vorhanden). \n  \nMehr Infos: https://www.limen-works.ch/programm/klang-performance-sustain
URL:https://lauramoser.ch/agenda/performance-resonances-of-the-transient-mit-laurin-schaub/
LOCATION:Zürich
END:VEVENT
BEGIN:VEVENT
DTSTART;TZID=UTC:20260328T181500
DTEND;TZID=UTC:20260328T193000
DTSTAMP:20260423T105223
CREATED:20251205T151327Z
LAST-MODIFIED:20251205T151327Z
UID:1506-1774721700-1774726200@lauramoser.ch
SUMMARY:konzert: tätsch trio @ ref. kirche zollikon
DESCRIPTION:28.03.2026 – musikalische Umrahmung \n18:15 Ref. Kirche Zollikon \nLicht und Klang Abendfeier
URL:https://lauramoser.ch/agenda/konzert-taetsch-trio-ref-kirche-zollikon/
LOCATION:Zürich
CATEGORIES:konzert
ATTACH;FMTTYPE=image/jpeg:https://lauramoser.ch/wp-content/uploads/2-Martin-Schweingruber_Stubete-am-See-Sils-2025_Taetsch-Trio_Spaziergang_Trio-1-von-1-scaled.jpeg
END:VEVENT
BEGIN:VEVENT
DTSTART;TZID=UTC:20260322T110000
DTEND;TZID=UTC:20260322T160000
DTSTAMP:20260423T105223
CREATED:20251205T151058Z
LAST-MODIFIED:20251205T151058Z
UID:1504-1774177200-1774195200@lauramoser.ch
SUMMARY:kurs: natur- und improjodeln tageskurs
DESCRIPTION:Anmeldung und Infos findet ihr hier: https://www.galotti.ch/kurse/detail/natur-und-improjodeln-tageskurs/26F-1-009-003/
URL:https://lauramoser.ch/agenda/kurs-natur-und-improjodeln-tageskurs/
LOCATION:Galotti\, Hohlstrasse 290\, Zürich\, Zürich\, 8004\, Schweiz
CATEGORIES:jodeln,kurs,workshop
END:VEVENT
BEGIN:VEVENT
DTSTART;TZID=UTC:20260314T080000
DTEND;TZID=UTC:20260314T170000
DTSTAMP:20260423T105223
CREATED:20260307T125753Z
LAST-MODIFIED:20260307T131148Z
UID:1547-1773475200-1773507600@lauramoser.ch
SUMMARY:workshop: rhythmik jodelt @ 100 jahre rhythmik
DESCRIPTION:Tagung / Konferenz / Symposium \n14.03.2026\, 09:45 – 16:00 \nToni-Areal\, Foyer Konzertsaal 3\, Ebene 7\, Pfingstweidstrasse 96\, Zürich \n\n\n\n\n\n\n\n\n\n\n Rhythmik – seit 100 Jahren in Bewegung \nAnmeldung bis 1. März\neventfrog.ch/Rhythmik \n\n\n\n\n\n\n  \nMehr Info: https://www.zhdk.ch/veranstaltung/60853
URL:https://lauramoser.ch/agenda/workshop-rhythmik-jodelt-100-jahre-rhythmik/
LOCATION:Zürich
CATEGORIES:jodeln,kurs,workshop
END:VEVENT
BEGIN:VEVENT
DTSTART;VALUE=DATE:20260302
DTEND;VALUE=DATE:20260324
DTSTAMP:20260423T105223
CREATED:20251205T150714Z
LAST-MODIFIED:20260324T141451Z
UID:1498-1772409600-1774310399@lauramoser.ch
SUMMARY:kurs: jodeln! improvisiert
DESCRIPTION:Anmeldung und Infos findet ihr hier: https://www.galotti.ch/kurse/detail/jodeln-improvisiert/26F-1-009-002/
URL:https://lauramoser.ch/agenda/kurs-jodeln-improvisiert-4/
LOCATION:Galotti\, Hohlstrasse 290\, Zürich\, Zürich\, 8004\, Schweiz
CATEGORIES:jodeln,kurs,workshop
END:VEVENT
BEGIN:VEVENT
DTSTART;TZID=UTC:20260206T140000
DTEND;TZID=UTC:20260206T170000
DTSTAMP:20260423T105223
CREATED:20251205T150600Z
LAST-MODIFIED:20251205T150854Z
UID:1496-1770386400-1770397200@lauramoser.ch
SUMMARY:kurs: einführungskurs jodeln! improvisiert
DESCRIPTION:Anmeldung und Infos findet ihr hier: https://www.galotti.ch/kurse/detail/einfuehrungskurs-jodeln-improvisiert/26F-1-009-001/
URL:https://lauramoser.ch/agenda/kurs-einfuehrungskurs-jodeln-improvisiert/
LOCATION:Zürich
CATEGORIES:jodeln,kurs,workshop
END:VEVENT
BEGIN:VEVENT
DTSTART;VALUE=DATE:20260125
DTEND;VALUE=DATE:20260126
DTSTAMP:20260423T105223
CREATED:20251015T145235Z
LAST-MODIFIED:20251015T145235Z
UID:1450-1769299200-1769385599@lauramoser.ch
SUMMARY:konzert: tätsch trio @ zwirbelistubete\, henggart
DESCRIPTION:infos und tickets: https://vti.world/zwirbelistubete/
URL:https://lauramoser.ch/agenda/konzert-taetsch-trio-zwirbelistubete-henggart-2/
LOCATION:Zürich
CATEGORIES:jodeln,konzert
END:VEVENT
BEGIN:VEVENT
DTSTART;VALUE=DATE:20260116
DTEND;VALUE=DATE:20260118
DTSTAMP:20260423T105223
CREATED:20251204T072115Z
LAST-MODIFIED:20251223T113822Z
UID:1487-1768521600-1768694399@lauramoser.ch
SUMMARY:kurs: winti jodel-werkstatt mit petra hayoz
DESCRIPTION:Winti Jodelwerkstatt mit Petra Hayoz und Laura Moser \n  \nDer Kurs ist ausgebucht! Wenn du auf die Warteliste möchtest\, melde dich einfach an. Du erhältst dann per Mail Bescheid\, sofern kurzfristig ein Platz frei wird. \n  \nZeit und Ort: \n16. Januar 2026\, 16 Uhr bis 17. Januar 2026\, 19 Uhr (mit open end) \nQuartiertreff Wildbach\, Wildbachstrase 18\, 8400 Winterthur \nPreis: CHF 200-250 \n  \nProgramm: \nPetra Hayoz und Laura Moser laden dich ein in zwei Tage voller Jodel\, Begegnung und Klang! Die Jodelwerkstatt Winterthur ist ein Ort für Menschen mit Interesse am  Jodeln\, die tiefer eintauchen wollen –  in ihre Stimme\, ins Jodelrepertoire\, in die Verbindung zu sich selbst und anderen. \nDu erlebst und übst das gemeinsame Jodeln in Kleingruppen\, erfährst ein individuelles 1:1 Coaching im geschützten Rahmen\, erlebst gemeinsames Jodeln in der grossen Gruppe und erforschst mit deiner Stimme neue Räume – zwischen Ausdruck und Introspektion\, zwischen Brust- und Kopfregister\, zwischen Klang und Körper. \nIm Fokus stehen Zusammenklang\, deine individuellen Jodelanliegen\, das Miteinander\, das durch Musik entsteht und der Genuss! Ob beim gemeinsamen Znacht am Freitag in der Alten Kaserne mit anschliessender offener Jodelbar oder beim Zmittag im gemütlichen Emma’s BnB am Samstag – auch der kulinarische Teil kommt also nicht zu kurz. Wer mag\, lässt den Samstagabend bei Speis und Trank und offenen Weiterjodeln ausklingen! \nMahlzeiten sind im Kurspreis nicht inbegriffen und optional. Freitag Znacht in der Alte Kaserne (Bistro-Karte vor Ort) und Samstag Zmittag bei Emmas BnB (CHF 30.- pauschal\, bei Anmeldung ankreuzen). \nBring deine Stimme mit! Wir freuen uns auf dich! \nBestätigung und letzte Infos folgen ca. eine Woche vor dem Kurs per Mail. \nAnmeldung: \n\n← Zurück Vielen Dank für deine Antwort. ✨\n\n\n					\n						\n							\n							\n						\n						\n						\n						\n						\n							\n								\n									\n										\n										\n									\n									\n										\n										\n									\n								\n							\n						\n						\n							\n								\n									\n									\n										\n									\n									\n									\n								\n							\n						\n					\n				\n\n\n\nVor- und Nachname(erforderlich)\n\n \n			\n				\n					\n						\n						\n						\n					\n				\n				\n			 \n	\n\n\nE-Mail(erforderlich)\n\n \n			\n				\n					\n						\n						\n						\n					\n				\n				\n			 \n	\n\n\nHandynummer(erforderlich)\n\n \n			\n				\n					\n						\n						\n						\n					\n				\n				\n			 \n	\n\n\nWie viel bezahlst du für den Kurs? Wähle nach deinen finanziellen Möglichkeiten.(erforderlich)\n 200 210 220 230 240 250\n			\n				\n					\n						\n						\n						\n					\n				\n				\n				\n\n\nZmittag in Emmas BnB (pauschal CHF 30.-)(erforderlich)\n ja Linsen-Curry (und Haus-Eistee oder Wasser sowie Kafi) ja Älplermagronen (und Haus-Eistee oder Wasser sowie Kafi) kein Zmittag\n			\n				\n					\n						\n						\n						\n					\n				\n				\n				\n\n\nNachricht (optional)\n\n \n			\n				\n					\n						\n						\n						\n					\n				\n				\n			 \n	\n	\n\n				\n					\n				\n						Senden
URL:https://lauramoser.ch/agenda/kurs-winti-jodel-werkstatt-mit-petra-hayoz/
LOCATION:Zürich
CATEGORIES:jodeln,kurs,workshop
ATTACH;FMTTYPE=image/png:https://lauramoser.ch/wp-content/uploads/Flyer-Jodelwerkstatt.png
END:VEVENT
BEGIN:VEVENT
DTSTART;VALUE=DATE:20251124
DTEND;VALUE=DATE:20251216
DTSTAMP:20260423T105223
CREATED:20250909T080314Z
LAST-MODIFIED:20251007T123355Z
UID:1438-1763942400-1765843199@lauramoser.ch
SUMMARY:kurs: jodeln am nachmittag (mixed levels) @ galotti
DESCRIPTION:Infos und Anmeldung: https://www.galotti.ch/kurse/detail/jodeln-am-nachmittag-mixed-levels/25H-1-009-002/
URL:https://lauramoser.ch/agenda/kurs-jodeln-am-nachmittag-mixed-levels-galotti/
LOCATION:Galotti\, Hohlstrasse 290\, Zürich\, Zürich\, 8004\, Schweiz
CATEGORIES:jodeln,kurs,workshop
END:VEVENT
BEGIN:VEVENT
DTSTART;TZID=UTC:20251101T210000
DTEND;TZID=UTC:20251101T213000
DTSTAMP:20260423T105223
CREATED:20250908T160931Z
LAST-MODIFIED:20251024T111104Z
UID:1411-1762030800-1762032600@lauramoser.ch
SUMMARY:konzert: jodeln am dia de los muertos\, zürich
DESCRIPTION:1.11.25 \n21.00\, Kirche St. Jakob am Stauffacher\, Zürich \nMehr Infos: https://citykirche.ch/wp-content/uploads/2025/10/STJ_DdM_A65_2509130_Online.pdf
URL:https://lauramoser.ch/agenda/konzert-jodeln-am-dia-de-los-muertos-zuerich/
LOCATION:Kirche St. Jakob\, Stauffacherstrasse 34\, Zürich\, 8004
CATEGORIES:jodeln,konzert
ATTACH;FMTTYPE=image/jpeg:https://lauramoser.ch/wp-content/uploads/2022/11/DSCF4349.jpg
END:VEVENT
BEGIN:VEVENT
DTSTART;TZID=UTC:20251028T140000
DTEND;TZID=UTC:20251028T170000
DTSTAMP:20260423T105223
CREATED:20250909T080135Z
LAST-MODIFIED:20250909T080150Z
UID:1435-1761660000-1761670800@lauramoser.ch
SUMMARY:kurs: einführungskurs ins jodeln @ galotti
DESCRIPTION:Anmeldung und Infos: https://www.galotti.ch/kurse/detail/einfuehrungskurs-ins-jodeln/25H-1-009-003/
URL:https://lauramoser.ch/agenda/kurs-einfuehrungskurs-ins-jodeln/
LOCATION:Zürich
END:VEVENT
BEGIN:VEVENT
DTSTART;VALUE=DATE:20251027
DTEND;VALUE=DATE:20251118
DTSTAMP:20260423T105223
CREATED:20250909T075932Z
LAST-MODIFIED:20251007T123448Z
UID:1433-1761523200-1763423999@lauramoser.ch
SUMMARY:kurs: jodeln! improvisiert @ galotti
DESCRIPTION:Anmeldung und Infos: https://www.galotti.ch/kurse/detail/jodeln-improvisiert/25H-1-009-001/
URL:https://lauramoser.ch/agenda/kurs-jodeln-improvisiert-galotti/
LOCATION:Galotti\, Hohlstrasse 290\, Zürich\, Zürich\, 8004\, Schweiz
CATEGORIES:jodeln,kurs,workshop
END:VEVENT
BEGIN:VEVENT
DTSTART;VALUE=DATE:20251017
DTEND;VALUE=DATE:20251019
DTSTAMP:20260423T105223
CREATED:20250606T190454Z
LAST-MODIFIED:20250909T071830Z
UID:1393-1760659200-1760831999@lauramoser.ch
SUMMARY:konzert: tätsch trio @ stubete am see sils\, sils im engadin
DESCRIPTION:17. & 18.10.25 – Ranggä Ruglä Rodä \nStubete am See Sils\, Sils im Engadin \nDetails unter www.stubeteamseesils.ch
URL:https://lauramoser.ch/agenda/konzert-taetsch-trio-stubete-am-see-sils-sils-im-engadin/
LOCATION:Zürich
CATEGORIES:jodeln,konzert
ATTACH;FMTTYPE=image/jpeg:https://lauramoser.ch/wp-content/uploads/2024/04/FHF3578-scaled.jpg
END:VEVENT
BEGIN:VEVENT
DTSTART;TZID=UTC:20250930T140000
DTEND;TZID=UTC:20250930T170000
DTSTAMP:20260423T105223
CREATED:20250909T075430Z
LAST-MODIFIED:20250909T075750Z
UID:1426-1759240800-1759251600@lauramoser.ch
SUMMARY:kurs: einführungskurs jodeln! improvisiert @ galotti
DESCRIPTION:Anmeldung und Infos: https://www.galotti.ch/kurse/detail/einfuehrungskurs-jodeln-improvisiert/25H-1-009-004/
URL:https://lauramoser.ch/agenda/kurs-jodeln-improvisiert-3/
LOCATION:Galotti\, Hohlstrasse 290\, Zürich\, Zürich\, 8004\, Schweiz
CATEGORIES:jodeln,kurs,workshop
END:VEVENT
BEGIN:VEVENT
DTSTART;VALUE=DATE:20250927
DTEND;VALUE=DATE:20250928
DTSTAMP:20260423T105223
CREATED:20250606T184631Z
LAST-MODIFIED:20250606T184729Z
UID:1385-1758931200-1759017599@lauramoser.ch
SUMMARY:konzert: GALOTTI-yodelers @ bullingerplatzfest\, zürich
DESCRIPTION:Mit Jodler:innen aus den GALOTTI-Kursen juuzen und jodeln wir am Bullingerplatzfest!
URL:https://lauramoser.ch/agenda/konzert-galotti-yodelers-bullingerplatzfest-zuerich/
LOCATION:Zürich
CATEGORIES:jodeln,konzert
END:VEVENT
BEGIN:VEVENT
DTSTART;TZID=UTC:20250918T200000
DTEND;TZID=UTC:20250918T213000
DTSTAMP:20260423T105223
CREATED:20250606T190239Z
LAST-MODIFIED:20250909T075049Z
UID:1391-1758225600-1758231000@lauramoser.ch
SUMMARY:abgesagt: konzert: tätsch trio @ kubaa\, zürich
DESCRIPTION:Do 18.09.25 – Ranggä Ruglä Rodä \n20 Uhr KuBaA\, Zürich Affoltern\nwww.kubaa.ch \nAbgesagt aufgrund Krankheit
URL:https://lauramoser.ch/agenda/konzert-taetsch-trio-kubaa-zuerich/
LOCATION:KuBaA\, Bachmannweg 16\, 8046 Zürich
CATEGORIES:jodeln,konzert
ATTACH;FMTTYPE=image/jpeg:https://lauramoser.ch/wp-content/uploads/2024/04/FHF3578-scaled.jpg
END:VEVENT
BEGIN:VEVENT
DTSTART;VALUE=DATE:20250916
DTEND;VALUE=DATE:20250917
DTSTAMP:20260423T105223
CREATED:20250606T184357Z
LAST-MODIFIED:20250909T075021Z
UID:1380-1757980800-1758067199@lauramoser.ch
SUMMARY:abgesagt: kurs: jodelkurs bei zürich lernt @ helferei\, zürich
DESCRIPTION:https://openki.zuerich-lernt.ch/event/oF9iEX79rxLsSXxP3/jodel-crashkurs \nhttps://openki.zuerich-lernt.ch/event/oF9iEX79rxLsSXxP3/jodel-crashkurs \nhttps://zuerich-lernt.ch/schenken/helferei/ \n  \nAbgesagt aufgrund Krankheit
URL:https://lauramoser.ch/agenda/kurs-jodelkurs-bei-zuerich-lernt-helferei-zuerich/
LOCATION:Kulturhaus Helferei\, Kirchgasse 13\, Zürich\, 8001
CATEGORIES:jodeln,kurs,workshop
END:VEVENT
BEGIN:VEVENT
DTSTART;VALUE=DATE:20250828
DTEND;VALUE=DATE:20250829
DTSTAMP:20260423T105223
CREATED:20240827T165022Z
LAST-MODIFIED:20241120T145720Z
UID:921-1756339200-1756425599@lauramoser.ch
SUMMARY:konzert: tätsch trio @ kirche sent
DESCRIPTION:Do 28.08.25 – Ranggä Ruglä Rodä \nKirche Sent \nwww.sent-concerts.ch \nDetails TBA \n  \nwww.taetschtrio.ch
URL:https://lauramoser.ch/agenda/konzert-taetsch-trio-7/
LOCATION:Zürich
CATEGORIES:jodeln,konzert
ATTACH;FMTTYPE=image/jpeg:https://lauramoser.ch/wp-content/uploads/2024/04/FHF3578-scaled.jpg
END:VEVENT
BEGIN:VEVENT
DTSTART;TZID=UTC:20250823T170000
DTEND;TZID=UTC:20250823T180000
DTSTAMP:20260423T105223
CREATED:20250708T122339Z
LAST-MODIFIED:20250708T123142Z
UID:1401-1755968400-1755972000@lauramoser.ch
SUMMARY:konzert: tätsch trio @ neubad\, luzern
DESCRIPTION:https://neubad.org/node/8682 \nhttps://www.taetschtrio.ch/
URL:https://lauramoser.ch/agenda/konzert-taetsch-trio-neubad-luzern/
LOCATION:Neubad\, Bireggstrasse 36\, Luzern\, 6003
CATEGORIES:jodeln,konzert
ATTACH;FMTTYPE=image/jpeg:https://lauramoser.ch/wp-content/uploads/2024/04/FHF3578-scaled.jpg
END:VEVENT
BEGIN:VEVENT
DTSTART;VALUE=DATE:20250814
DTEND;VALUE=DATE:20250818
DTSTAMP:20260423T105223
CREATED:20250606T184912Z
LAST-MODIFIED:20250606T184912Z
UID:1387-1755129600-1755475199@lauramoser.ch
SUMMARY:kurs: jodelkurse am alpentöne festival\, altdorf UR
DESCRIPTION:https://alpentoene.ch/
URL:https://lauramoser.ch/agenda/kurs-jodelkurse-am-alpentoene-festival-altdorf-ur/
LOCATION:Zürich
CATEGORIES:jodeln,kurs
END:VEVENT
BEGIN:VEVENT
DTSTART;VALUE=DATE:20250720
DTEND;VALUE=DATE:20250721
DTSTAMP:20260423T105223
CREATED:20250606T184041Z
LAST-MODIFIED:20250606T184055Z
UID:1375-1752969600-1753055999@lauramoser.ch
SUMMARY:workshop: naturjodeln mit laura moser @ bünder rigi\, GR
DESCRIPTION:https://buendnerrigi.com/programm
URL:https://lauramoser.ch/agenda/workshop-naturjodeln-buender-rigi-gr/
LOCATION:Bündner Rigi\, Surcuolm\, 7138
CATEGORIES:kurs,workshop
END:VEVENT
BEGIN:VEVENT
DTSTART;VALUE=DATE:20250711
DTEND;VALUE=DATE:20250712
DTSTAMP:20260423T105223
CREATED:20250202T191641Z
LAST-MODIFIED:20250708T122034Z
UID:1074-1752192000-1752278399@lauramoser.ch
SUMMARY:konzert: anatole buccella solo + aufzug! béatrice graf und domi chansorn
DESCRIPTION:18.30 uhr: aufzug! béatrice graf und domi chansorn \nänderung:\n20 uhr: anatole buccella solo (ich spiele nicht\, geht trotzdem\, es wird toll <3) \n  \n 
URL:https://lauramoser.ch/agenda/konzert-duo-mit-anatole-buccella/
LOCATION:KuBaA\, Bachmannweg 16\, 8046 Zürich
CATEGORIES:konzert
ATTACH;FMTTYPE=image/jpeg:https://lauramoser.ch/wp-content/uploads/DSC03769-scaled-e1742151094337.jpg
END:VEVENT
BEGIN:VEVENT
DTSTART;TZID=UTC:20250624T180000
DTEND;TZID=UTC:20250624T193000
DTSTAMP:20260423T105223
CREATED:20250316T182211Z
LAST-MODIFIED:20250316T182218Z
UID:1189-1750788000-1750793400@lauramoser.ch
SUMMARY:GALOTTI-Jodelstamm
DESCRIPTION:im Bullingerhaus! \nAlle Infos via Link. \n 
URL:https://lauramoser.ch/agenda/galotti-jodelstamm-4/
LOCATION:Bullingehaus\, Bullingerstrasse 8\, Zürich\, 8004
CATEGORIES:jodeln
END:VEVENT
BEGIN:VEVENT
DTSTART;VALUE=DATE:20250619
DTEND;VALUE=DATE:20250620
DTSTAMP:20260423T105223
CREATED:20250512T210010Z
LAST-MODIFIED:20250512T210044Z
UID:1366-1750291200-1750377599@lauramoser.ch
SUMMARY:konzert: tätsch trio @ wohnzimmerkonzert\, zürich
DESCRIPTION:Do 19.06.25 – Ranggä Ruglä Rodä \n\n\n\nZürich\, Wohnzimmerkonzert\, semi-öffentlich \nFür mehr Infos e-mail me 🙂 \nwww.taetschtrio.ch
URL:https://lauramoser.ch/agenda/konzert-taetsch-trio-wohnzimmerkonzert-zuerich/
LOCATION:Zürich
END:VEVENT
BEGIN:VEVENT
DTSTART;VALUE=DATE:20250614
DTEND;VALUE=DATE:20250615
DTSTAMP:20260423T105223
CREATED:20241206T084754Z
LAST-MODIFIED:20250103T101257Z
UID:1008-1749859200-1749945599@lauramoser.ch
SUMMARY:wandern\, jodeln und jutzen in uri
DESCRIPTION:Auf dem Weg der Schweiz wandern wir von Brunnen nach Sisikon und werden von Laura Moser (professionelle Jodlerin und Musikerin\, ursprünglich vom Sattel\, jetzt in Winterthur) schrittweise auf verschiedenen Stationen in die Grundzüge des Jodelns eingeführt. Wir können uns auf eine spannende Mischung von Natur\, Bewegung und Gesang freuen. \nWir treffen uns beim Bahnhof in Brunnen\, von wo aus wir in Richtung Morschach starten. Bei verschiedenen Stopps auf dem Weg erhalten wir lehrreiche und interessante Inputs von Laura. Unser Weg führt uns durch das Swiss Holiday Dorf Morschach und dem schönen Aussischtspunk „Tannen“ vorbei bis nach Sisikon\, wo wir unsere Wanderung beenden und die Reise nach Hause in Angriff nehmen. \n  \n\n\n\n\nDatum: Samstag\, 14. Juni 2025\nWanderzeit: a. 3.5 Stunden reine Wanderzeit\nHöhendifferenz: 600 m aufwärts / 175 m abwärts\nDistanz: 6 km\nTechnische Anforderung: mittel\, T2\nKonditionelle Anforderung: mittel \n\n\n\nHinweis: Es braucht keine Jodelvorkenntnisse. \n\nKosten: CHF 100 für Mitglieder\, CHF 120 für Nichtmitglieder \n\n  \nDetaillierte Angaben über die Wanderung werden spätestens einen Monat vor Wanderstart auf www.urnerwanderwege.ch aufgeschaltet. \n\n  \n\n\nAnmeldung: info@urnerwanderwege.ch \nAnmeldeschluss: 9. Juni 2025
URL:https://lauramoser.ch/agenda/wandern-jodeln-und-jutzen-in-uri/
LOCATION:Zürich
CATEGORIES:jodeln,natur,wandern
END:VEVENT
BEGIN:VEVENT
DTSTART;VALUE=DATE:20250613
DTEND;VALUE=DATE:20250614
DTSTAMP:20260423T105223
CREATED:20250405T205734Z
LAST-MODIFIED:20250514T194838Z
UID:1210-1749772800-1749859199@lauramoser.ch
SUMMARY:konzert: tätsch trio @ forum der schweizer geschichte
DESCRIPTION:Fr 13.06.25 – Ranggä Ruglä Rodä \nForum der Schweizer Geschichte\, Schwyz \nwww.forumschwyz.ch \nhttps://www.forumschwyz.ch/vernissage \nDetails TBA via www.taetschtrio.ch \n​
URL:https://lauramoser.ch/agenda/konzert-taetsch-trio-forum-der-schweizer-geschichte/
LOCATION:Forum der Schweizer Geschichte Schwyz\, Schwyz
CATEGORIES:jodeln,konzert
ATTACH;FMTTYPE=image/jpeg:https://lauramoser.ch/wp-content/uploads/2024/04/FHF3578-scaled.jpg
END:VEVENT
BEGIN:VEVENT
DTSTART;VALUE=DATE:20250608
DTEND;VALUE=DATE:20250609
DTSTAMP:20260423T105223
CREATED:20250202T192050Z
LAST-MODIFIED:20250405T210648Z
UID:1080-1749340800-1749427199@lauramoser.ch
SUMMARY:konzert: queerchor in zürich!
DESCRIPTION:Tickets: https://eventfrog.ch/de/p/konzert/chor/queerchor-schweiz-and-where-it-blossoms-7291201849683615480.html
URL:https://lauramoser.ch/agenda/konzert-queerchor-in-zuerich/
LOCATION:Zürich
CATEGORIES:konzert
END:VEVENT
BEGIN:VEVENT
DTSTART;VALUE=DATE:20250607
DTEND;VALUE=DATE:20250608
DTSTAMP:20260423T105223
CREATED:20250202T191947Z
LAST-MODIFIED:20250405T205918Z
UID:1078-1749254400-1749340799@lauramoser.ch
SUMMARY:konzert: queerchor in luzern!
DESCRIPTION:Tickets: https://eventfrog.ch/de/p/konzert/chor/queerchor-schweiz-and-where-it-blossoms-7291195726356292475.html
URL:https://lauramoser.ch/agenda/konzert-queerchor-in-luzern/
LOCATION:Zürich
END:VEVENT
BEGIN:VEVENT
DTSTART;TZID=UTC:20250527T180000
DTEND;TZID=UTC:20250527T193000
DTSTAMP:20260423T105223
CREATED:20250316T182008Z
LAST-MODIFIED:20250316T182008Z
UID:1185-1748368800-1748374200@lauramoser.ch
SUMMARY:GALOTTI-Jodelstamm
DESCRIPTION:im Bullingerhaus! \nAlle Infos via Link.
URL:https://lauramoser.ch/agenda/galotti-jodelstamm-3/
LOCATION:Bullingehaus\, Bullingerstrasse 8\, Zürich\, 8004
CATEGORIES:jodeln
END:VEVENT
BEGIN:VEVENT
DTSTART;VALUE=DATE:20250523
DTEND;VALUE=DATE:20250524
DTSTAMP:20260423T105223
CREATED:20250408T193158Z
LAST-MODIFIED:20250408T193522Z
UID:1251-1747958400-1748044799@lauramoser.ch
SUMMARY:konzert: duo mit anatole buccella
DESCRIPTION:Seefeld\, Zürich \nDetails TBA \nHier bekommst Bescheid\, sobald es mehr Infos gibt: https://lauramoser.ch/newsletter-2/ \nUnd sonst einfach wieder vorbeischauen 🙂
URL:https://lauramoser.ch/agenda/konzert-duo-mit-anatole-buccella-2/
LOCATION:Zürich
CATEGORIES:konzert
END:VEVENT
END:VCALENDAR